BEGIN:VCALENDAR
VERSION:2.0
PRODID:-//Stary Świat, po mojemu. - ECPv6.10.1.1//NONSGML v1.0//EN
CALSCALE:GREGORIAN
METHOD:PUBLISH
X-ORIGINAL-URL:https://myhammer.blog
X-WR-CALDESC:Events for Stary Świat, po mojemu.
REFRESH-INTERVAL;VALUE=DURATION:PT1H
X-Robots-Tag:noindex
X-PUBLISHED-TTL:PT1H
BEGIN:VTIMEZONE
TZID:Europe/Warsaw
BEGIN:DAYLIGHT
TZOFFSETFROM:+0100
TZOFFSETTO:+0200
TZNAME:CEST
DTSTART:20250330T010000
END:DAYLIGHT
BEGIN:STANDARD
TZOFFSETFROM:+0200
TZOFFSETTO:+0100
TZNAME:CET
DTSTART:20251026T010000
END:STANDARD
END:VTIMEZONE
BEGIN:VEVENT
DTSTART;TZID=Europe/Warsaw:20250330T090000
DTEND;TZID=Europe/Warsaw:20250330T170000
DTSTAMP:20260418T040307
CREATED:20250315T163928Z
LAST-MODIFIED:20250315T164107Z
UID:1084-1743325200-1743354000@myhammer.blog
SUMMARY:Rzeszowski Młotek XI "Tajemniczy zwój"
DESCRIPTION:Mamy zaszczyt zaprosić Was na jedenasty turniej Warhammer Fantasy Battle w Rzeszowie.Turniej odbędzie się w sklepie „Zagrajmy” na ulicy. Jana III Sobieskiego 16/1\, 35-001 w Rzeszowie.https://maps.app.goo.gl/568JdDsT9SGuim769\n\n\nWpisowe: 40 PLN – W całości przeznaczone na pulę kuponów do wydania w sklepie „Zagrajmy” w miejscu turnieju.\n\nGramy na 1300 PKT armybooki 6ed z rulebookiem 7ed.\n\n\nPunktacja0-129 10:10130-259 11:9260-389 12:8390-519 13:7520-649 14:6650-779 15:5780-909 16:4910-1039 17:31040-1169 18:21170-1299 19:11300+ 20:0\n\n\nW ramach turnieju rozegramy trzy bitwy w oparciu o Pitched Battle.\n\n\nTajemnicze zwoje:Przed każdą bitwą gracze losują dla każdego bohatera magiczny przedmiot jednorazowego użytku (z puli kart). Każdy z graczy sprawdza swoje karty\, ale tak by dla przeciwnika były tajne. Kartę ujawnia się dopiero w momencie użycia przedmiotu.\n\n\nDopuszczamy:* Special Characters* wszystkie armie wydane w VI edycji WFB przez GW.*Dotyczy to wszystkich armii z Armybook \, uwzględniając opcjonalne\, armie z -Storm of Chaos\, Revening Hordes\, Vampire Coast. Jeżeli chcesz przyjechac z jakąś oryginalna armia z White Dwarfs \, nie wymienionych dodatkow – napisz do nas nie będzie z tym problemu \n\n\nMUST HAVE :* Uczestnik turnieju musi przynieść ze sobą figurki i modele\, które będą reprezentować dowodzoną przez gracza armię. Niedopuszczalne są PROXY nie reprezentujące bezpośrednio modeli w armii gracza ( jesteśmy ok z drukiem 3d\, zamiennikami\, ale modele muszą być w odpowiedniej skali i reprezentujące poszczególne jednostki z frakcji)* Uczestnik turnieju musi posiadać ze sobą wydrukowana czytelna rozpiskę zawierająca ekwipunek jednostek statystyki koszt i umiejętności* Uczestnik turnieju musi posiadać swoja miarkę calowa oraz zestaw niezbędnych kości i wzorników* uczestnik turnieju w trakcie trwania turnieju musi posiadac przy sobie ksiege armii / zasady swojej armii ktore w dowolnej chwili moze udostepnic przeciwnikowi.*WORST PLAY : w przypadku zachowania naruszającego szacunek względem graczy\, rażąco negatywnego wpływu na pogorszenie atmosfery wydarzenia organizator zastrzega sobie prawo do wykluczenia gracza z dalszej rozgrywki\, bez prawa do zwrotu wpisowego.Jesteśmy tutaj aby świetnie spędzić czas\, nie denerwować się Na turnieju wyznaczeni będą dwaj sędziowie\, w przypadku sporów rozstrzygać będą interpretacje zasad\, ich ocena jest ostateczna i nie podlega negocjacjom
URL:https://myhammer.blog/event/rzeszowski-mlotek-xi-tajemniczy-zwoj/
LOCATION:Zagrajmy\, Jana III Sobieskiego 16/1\, Rzeszów\, podkarpadzkie\, 35-001\, Poland
CATEGORIES:Turniej WFB
ATTACH;FMTTYPE=image/jpeg:https://myhammer.blog/wp-content/uploads/2025/03/484469791_9344392858977119_6934124908860112956_n.jpg
END:VEVENT
END:VCALENDAR