BEGIN:VCALENDAR
VERSION:2.0
PRODID:-//Stary Świat, po mojemu. - ECPv6.10.1.1//NONSGML v1.0//EN
CALSCALE:GREGORIAN
METHOD:PUBLISH
X-WR-CALNAME:Stary Świat, po mojemu.
X-ORIGINAL-URL:https://myhammer.blog
X-WR-CALDESC:Events for Stary Świat, po mojemu.
REFRESH-INTERVAL;VALUE=DURATION:PT1H
X-Robots-Tag:noindex
X-PUBLISHED-TTL:PT1H
BEGIN:VTIMEZONE
TZID:UTC
BEGIN:STANDARD
TZOFFSETFROM:+0000
TZOFFSETTO:+0000
TZNAME:UTC
DTSTART:20250101T000000
END:STANDARD
END:VTIMEZONE
BEGIN:VEVENT
DTSTART;TZID=UTC:20250222T090000
DTEND;TZID=UTC:20250222T180000
DTSTAMP:20260420T194143
CREATED:20250205T204534Z
LAST-MODIFIED:20250205T205158Z
UID:627-1740214800-1740247200@myhammer.blog
SUMMARY:Turniej WFB : Rzeszowski Młotek X "Krwawe Kroniki"
DESCRIPTION:Turniej WFB : Rzeszowski Młotek X „Krwawe Kroniki”\n \nMamy zaszczyt zaprosić Was na dziesiąty turniej Warhammer Fantasy Battle w Rzeszowie. Turniej odbędzie się w Klubie Raglot – Rzeszów ul.Hoffmanowej 19. \nWpisowe: 40 PLN – W całości przeznaczone na wynajem lokalu oraz nagrody (dla każdego coś będzie jak zawsze!)\nGramy na 2500 PKT armybooki 6ed z rulebookiem 7ed.\nPunktacja\n0-199 10:10\n200-399 11:9\n400-599 12:8\n600-799 13:7\n800-999 14:6\n1000-1199 15:5\n1200-1399 16:4\n1400-1599 17:3\n1600-1799 18:2\n1800-1999 19:1\n2000+ 20:0 \n2\,5K punktów to dosyć wymagający czasowo format dlatego w ramach turnieju zdecydowaliśmy się na rozegranie 3 bitew w formacie pitched battle. \nW trakcie turnieju obowiązuje zasada „Kills matters”.\nGracze podliczają do wyniku jedynie punktacje za zabite / uciekające jednostki przeciwnika.\nBrak dodatkowych premii za : ćwiartki\, sztandary\, zabicie generała. \nDopuszczamy:\n* Special Characters\n* wszystkie armie wydane w VI edycji WFB przez GW.\n*Dotyczy to wszystkich armii z Armybook \, uwzględniając opcjonalne\, armie z -Storm of Chaos\, Revening Hordes\, Vampire Coast. \nMUST HAVE :\n* Uczestnik turnieju musi przynieść ze sobą figurki i modele\, które będą reprezentować dowodzoną przez gracza armię. Niedopuszczalne są PROXY nie reprezentujące bezpośrednio modeli w armii gracza ( jesteśmy ok z drukiem 3d\, zamiennikami\, ale modele muszą być w odpowiedniej skali i reprezentujące poszczególne jednostki z frakcji)\n* Uczestnik turnieju musi posiadać ze sobą wydrukowana czytelna rozpiskę zawierająca ekwipunek jednostek statystyki koszt i umiejętności\n* Uczestnik turnieju musi posiadać swoja miarkę calowa oraz zestaw niezbędnych kości i wzorników\n* uczestnik turnieju w trakcie trwania turnieju musi posiadac przy sobie ksiege armii / zasady swojej armii ktore w dowolnej chwili moze udostepnic przeciwnikowi.\n*WORST PLAY : w przypadku zachowania naruszającego szacunek względem graczy\, rażąco negatywnego wpływu na pogorszenie atmosfery wydarzenia organizator zastrzega sobie prawo do wykluczenia gracza z dalszej rozgrywki\, bez prawa do zwrotu wpisowego.\nJesteśmy tutaj aby świetnie spędzić czas\, nie denerwować się 🙂\nNa turnieju wyznaczeni będą dwaj sędziowie\, w przypadku sporów rozstrzygać będą interpretacje zasad\, ich ocena jest ostateczna i nie podlega negocjacjom.
URL:https://myhammer.blog/event/turniej-wfb-rzeszowski-mlotek-x-krwawe-kroniki/
LOCATION:Rzeszowski Młotek X „Krwawe Kroniki”\, Hoffmanowej 19\, Rzeszów\, Podkarpackie\, 35-016\, Poland
CATEGORIES:Turniej WFB
ATTACH;FMTTYPE=image/webp:https://myhammer.blog/wp-content/uploads/2025/02/DALL·E-2025-02-05-00.30.46-A-dramatic-fantasy-artwork-set-in-the-universe-of-Warhammer-Fantasy-depicting-the-journey-to-a-battlefield-at-the-mystical-Mirror-Pass.-In-the-fore.webp
END:VEVENT
END:VCALENDAR