BEGIN:VCALENDAR
VERSION:2.0
PRODID:-//Stary Świat, po mojemu. - ECPv6.10.1.1//NONSGML v1.0//EN
CALSCALE:GREGORIAN
METHOD:PUBLISH
X-WR-CALNAME:Stary Świat, po mojemu.
X-ORIGINAL-URL:https://myhammer.blog
X-WR-CALDESC:Events for Stary Świat, po mojemu.
REFRESH-INTERVAL;VALUE=DURATION:PT1H
X-Robots-Tag:noindex
X-PUBLISHED-TTL:PT1H
BEGIN:VTIMEZONE
TZID:Europe/Warsaw
BEGIN:DAYLIGHT
TZOFFSETFROM:+0100
TZOFFSETTO:+0200
TZNAME:CEST
DTSTART:20250330T010000
END:DAYLIGHT
BEGIN:STANDARD
TZOFFSETFROM:+0200
TZOFFSETTO:+0100
TZNAME:CET
DTSTART:20251026T010000
END:STANDARD
TZID:UTC
BEGIN:STANDARD
TZOFFSETFROM:+0000
TZOFFSETTO:+0000
TZNAME:UTC
DTSTART:20250101T000000
END:STANDARD
END:VTIMEZONE
BEGIN:VEVENT
DTSTART;TZID=Europe/Warsaw:20250322T094500
DTEND;TZID=Europe/Warsaw:20250322T180000
DTSTAMP:20260420T212943
CREATED:20250220T155741Z
LAST-MODIFIED:20250220T155930Z
UID:899-1742636700-1742666400@myhammer.blog
SUMMARY:Turniej Underworlds  – Górale Rywale: The Old Way
DESCRIPTION:Turniej Warhammer: Underworlds – Górale Rywale: The Old Way\nData: 22.03.2025Miejsce: Pub K20\, ul. Mikołaja Kopernika 4\, 35-069 RzeszówWejściówka: 20zł płacone przed 20.03.2025\, 30zł po tej dacie (w kwocie wejściówki wliczony będzie voucher do wydania na barze)Szczegóły wpłat: poście dot. Listy zapisów w Dyskusji wydarzeniaLimit miejsc: 16\nZapisy: pozostawienie komentarza w poście dot. Listy zapisów w Dyskusji wydarzenia\nCzasówka:09:45-10:00 – Zapisy10:00-11:45 – Runda 112:00-13:30 – Runda 213:30-14:00 – Przerwa14:00-15:30 – Runda 315:45-17:15 – Runda 4 (przy 10 graczach)17:30 – Rozdanie Nagród\n\nFormat turnieju:1) Gramy na zasady Wintermaw z zastosowaniem ostatniego FAQ do tego dodatku (znajdziecie wkrótce w Dyskusji wydarzenia)2) Format Rivals – gramy taliami do band bez żadnych zmian (nawet jeśli talia ma mniej niż 20 Ploy Cards i 12 Objective Cards)3) Bandy – na turnieju dostępne są wszystkie bandy wydane przed dodatkiem Embergard4) Plansze – każdy z graczy powinien przynieść ze sobą przynajmniej jedną obustronną planszę\, jeśli gracz chce wziąć udział w turnieju a nie posiada żadnych plansz to prosimy o informację w wydarzeniu5) Budowanie Talii – nie ma\nPunktacja:Turniej rozgrywany jest metodą Swiss\, grane jest 4 rundy (w przypadku mniejszej ilości graczy niż 10 gramy 3 rundy) a w każdej rundzie grana jest jedna gra.\nPunkty przyznawane są następująco:Wygrana – 5 punktówRemis – 2 punktyPrzegrana – 0 punktów\n\n\nUwagi:– 5 minut przed końcem Rundy turnieju organizator zastrzega sobie prawo do podjęcia decyzji\, że obaj gracze mają po jeszcze jednej turze po czym należy podliczyć punkty i zakończyć rundę– organizator turnieju zastrzega sobie prawo do zmiany regulaminu– na terenie turnieju nie wolno spożywać zakupionych poza lokalem napojów czy jedzenia– uczestnicząc w turnieju Górale Rywale: The Old Way uczestnicy zgadzają się na fotografowanie ich podczas wydarzenia oraz przetwarzanie zdjęć na stronie Facebook Pub K20 w celach promocyjnych– organizatorzy turnieju zastrzegają sobie prawo do wycofania gracza z turnieju jeśli oszukuje\, zachowuje się niepoprawnie lub z innych powodów które miałyby przeszkadzać uczestnikom turnieju lub klientom Pub K20 \nPokaż mniej
URL:https://myhammer.blog/event/turniej-underworlds-gorale-rywale-the-old-way/
LOCATION:K20 Rzeszów\, ul. Mikołaja Kopernika 4\, Rzeszów\, podkarpackie\, 35-069\, Poland
CATEGORIES:Turniej Warhammer Underworlds
ATTACH;FMTTYPE=image/jpeg:https://myhammer.blog/wp-content/uploads/2025/02/480573233_4113220538906213_5711501220496456603_n-1.jpg
END:VEVENT
BEGIN:VEVENT
DTSTART;TZID=UTC:20250315T080000
DTEND;TZID=UTC:20250315T190000
DTSTAMP:20260420T212943
CREATED:20250217T200947Z
LAST-MODIFIED:20250217T201340Z
UID:820-1742025600-1742065200@myhammer.blog
SUMMARY:Turniej WFB: Atak na Łozę X
DESCRIPTION:Jak co roku w Chełmży odbywa się ważne święto Warhammerowej społeczności. W 2025 roku będzie to już dziesiąta  rocznicas Ataku na Łozę! \n\nAtak na Łozę niezmiennie jest turniejem dedykowanym WFB 6 edycji! W tym roku pogramy na format 2025. Czy zobaczymy lordów na smoku??  Zobaczymy! Niech treningi się rozpoczną a bardowie niosą pieśń o Łozie w świat! \n  \nRegulamin\nOgraniczenia:\n– korzystamy z najnowszych podręczników 6ed (tu mamy dowolność wyboru jeśli na daną edycję wyszły dwa booki dla przykłady Krasnoludy)– nie wystawiamy armii z SoC\, ani dodatkowych army listów– nie korzystamy z jednostek DoW\, chyba że jest to samotna armia DoW– korzystamy z trial rules do lorów magii z chronicles 2004– korzystamy z mutacji chaosu z chronicles 2004 – wliczają się do limitu magicznych przedmiotów i muszą być odwzorowane na modelu– Jeżeli szarżująca jednostka ma wystarczającą ilość miejsca musi dostawić do hth jak największą szerokość podstawki\, a nawet całą szerokość podstawki. Zgodnie z zapisem w Appendixie gramy gentelmensko.\nDopuszczamy:– Bohaterów imiennych (tylko z podręcznika armii\, warunek model oryginalny)\,– Doomwheel\, steam tank.\n\nZapisy i wpisowe:\nLimit miejsc – 40 osób!\nDeklaracje uczestnictwa należy przesyłać na adres e-mail: beszcza@gmail.com lub w wydarzeniu!\nWpisowe – 80 zł wpłacane do 15.02.2025 r. W cenie każdy ma kawe/herbate i cukier. Dodatkowo coś słodkiego  oraz dyplom\, kubek i losowane nagrody!\nWymagania:\nFull Painted + NoProxWYSWIG obowiązuję tylko w unitach (bohaterowie\, czempioni nie muszą). Organizator dopuszcza maksymalnie 50% w unicie bez wyswigu. Osób\, które nie brały udziału we wcześniejszych rozgrywkach w Chełmży mająobowiązek przesłać zdjęcia swoich armii w celu weryfikacji na adres mailowy organizatora.Gramy trzy bitwy na 2025 punktów. Każdy gracz ma prawo przygotować dwie rozpiski i przed samą bitwą zdecydować\, którą chce zagraćSystem punktacyjny liczymy w/g tabelki: (Zwycięzca – Przegrany). Tak jak w podręczniku głównym opisano\, każdy uciekający\, społowiony oddział daję połowę wartości punktowej oddziału.Jeśli okaże się\, że na turnieju będzie nieparzysta liczba graczy pierwszą bitwę pauzuję organizator. Osoba pauzująca ma wynik traktowany jako 10:10.\nTabela Punktowa:0 – 205 10 : 10206 – 411 11 : 9412 – 617 12 : 8618 – 823 13 : 7824 – 1029 14 : 61030 – 1235 15 : 51236 – 1441 16 : 41442 – 1647 17 : 31648 – 1853 18 : 21854 – 2059 19 : 12060 + 20 : 0
URL:https://myhammer.blog/event/atak-na-loze-x/
LOCATION:Chełmżyński Ośrodek Kultury\, Bydgoska 7\, Chełmża\, 87-140\, Poland
CATEGORIES:Turniej WFB
ATTACH;FMTTYPE=image/jpeg:https://myhammer.blog/wp-content/uploads/2025/02/464177795_963563112470694_909460414216199523_n.jpg
ORGANIZER;CN="Klub Gier Bitewnych Che%C5%82m%C5%BCa":MAILTO:beszcza@gmail.com
END:VEVENT
BEGIN:VEVENT
DTSTART;TZID=UTC:20250222T090000
DTEND;TZID=UTC:20250222T180000
DTSTAMP:20260420T212943
CREATED:20250205T204534Z
LAST-MODIFIED:20250205T205158Z
UID:627-1740214800-1740247200@myhammer.blog
SUMMARY:Turniej WFB : Rzeszowski Młotek X "Krwawe Kroniki"
DESCRIPTION:Turniej WFB : Rzeszowski Młotek X „Krwawe Kroniki”\n \nMamy zaszczyt zaprosić Was na dziesiąty turniej Warhammer Fantasy Battle w Rzeszowie. Turniej odbędzie się w Klubie Raglot – Rzeszów ul.Hoffmanowej 19. \nWpisowe: 40 PLN – W całości przeznaczone na wynajem lokalu oraz nagrody (dla każdego coś będzie jak zawsze!)\nGramy na 2500 PKT armybooki 6ed z rulebookiem 7ed.\nPunktacja\n0-199 10:10\n200-399 11:9\n400-599 12:8\n600-799 13:7\n800-999 14:6\n1000-1199 15:5\n1200-1399 16:4\n1400-1599 17:3\n1600-1799 18:2\n1800-1999 19:1\n2000+ 20:0 \n2\,5K punktów to dosyć wymagający czasowo format dlatego w ramach turnieju zdecydowaliśmy się na rozegranie 3 bitew w formacie pitched battle. \nW trakcie turnieju obowiązuje zasada „Kills matters”.\nGracze podliczają do wyniku jedynie punktacje za zabite / uciekające jednostki przeciwnika.\nBrak dodatkowych premii za : ćwiartki\, sztandary\, zabicie generała. \nDopuszczamy:\n* Special Characters\n* wszystkie armie wydane w VI edycji WFB przez GW.\n*Dotyczy to wszystkich armii z Armybook \, uwzględniając opcjonalne\, armie z -Storm of Chaos\, Revening Hordes\, Vampire Coast. \nMUST HAVE :\n* Uczestnik turnieju musi przynieść ze sobą figurki i modele\, które będą reprezentować dowodzoną przez gracza armię. Niedopuszczalne są PROXY nie reprezentujące bezpośrednio modeli w armii gracza ( jesteśmy ok z drukiem 3d\, zamiennikami\, ale modele muszą być w odpowiedniej skali i reprezentujące poszczególne jednostki z frakcji)\n* Uczestnik turnieju musi posiadać ze sobą wydrukowana czytelna rozpiskę zawierająca ekwipunek jednostek statystyki koszt i umiejętności\n* Uczestnik turnieju musi posiadać swoja miarkę calowa oraz zestaw niezbędnych kości i wzorników\n* uczestnik turnieju w trakcie trwania turnieju musi posiadac przy sobie ksiege armii / zasady swojej armii ktore w dowolnej chwili moze udostepnic przeciwnikowi.\n*WORST PLAY : w przypadku zachowania naruszającego szacunek względem graczy\, rażąco negatywnego wpływu na pogorszenie atmosfery wydarzenia organizator zastrzega sobie prawo do wykluczenia gracza z dalszej rozgrywki\, bez prawa do zwrotu wpisowego.\nJesteśmy tutaj aby świetnie spędzić czas\, nie denerwować się 🙂\nNa turnieju wyznaczeni będą dwaj sędziowie\, w przypadku sporów rozstrzygać będą interpretacje zasad\, ich ocena jest ostateczna i nie podlega negocjacjom.
URL:https://myhammer.blog/event/turniej-wfb-rzeszowski-mlotek-x-krwawe-kroniki/
LOCATION:Rzeszowski Młotek X „Krwawe Kroniki”\, Hoffmanowej 19\, Rzeszów\, Podkarpackie\, 35-016\, Poland
CATEGORIES:Turniej WFB
ATTACH;FMTTYPE=image/webp:https://myhammer.blog/wp-content/uploads/2025/02/DALL·E-2025-02-05-00.30.46-A-dramatic-fantasy-artwork-set-in-the-universe-of-Warhammer-Fantasy-depicting-the-journey-to-a-battlefield-at-the-mystical-Mirror-Pass.-In-the-fore.webp
END:VEVENT
END:VCALENDAR