BEGIN:VCALENDAR
VERSION:2.0
PRODID:-//Stary Świat, po mojemu. - ECPv6.10.1.1//NONSGML v1.0//EN
CALSCALE:GREGORIAN
METHOD:PUBLISH
X-ORIGINAL-URL:https://myhammer.blog
X-WR-CALDESC:Events for Stary Świat, po mojemu.
REFRESH-INTERVAL;VALUE=DURATION:PT1H
X-Robots-Tag:noindex
X-PUBLISHED-TTL:PT1H
BEGIN:VTIMEZONE
TZID:Europe/Warsaw
BEGIN:DAYLIGHT
TZOFFSETFROM:+0100
TZOFFSETTO:+0200
TZNAME:CEST
DTSTART:20250330T010000
END:DAYLIGHT
BEGIN:STANDARD
TZOFFSETFROM:+0200
TZOFFSETTO:+0100
TZNAME:CET
DTSTART:20251026T010000
END:STANDARD
END:VTIMEZONE
BEGIN:VEVENT
DTSTART;TZID=Europe/Warsaw:20250518T090000
DTEND;TZID=Europe/Warsaw:20250518T190000
DTSTAMP:20260420T213114
CREATED:20250507T205641Z
LAST-MODIFIED:20250507T205641Z
UID:1117-1747558800-1747594800@myhammer.blog
SUMMARY:Turniej WFB: Rzeszowski Młotek XII "Nowy Bastion"
DESCRIPTION:Witam!Mamy zaszczyt zaprosić Was na dwunasty turniej Warhammer Fantasy Battle w Rzeszowie. Turniej odbędzie się w Klubie Raglot – Rzeszów ul.Hoffmanowej 19.https://goo.gl/maps/wpap1w4m9838VbNZ7Wpisowe: 40 PLN – W całości przeznaczone na wynajem lokalu oraz nagrody (dla każdego coś będzie jak zawsze!)\nLimit 12 graczy. Decyduje kolejnosc zgloszen.Gramy na 2000 Punktow.Armybooki z 6 edycji\, rullebook z 7 edycji.\nPunktacja0-199 10:10200-399 11:9400-599 12:8600-799 13:7800-999 14:61000-1199 15:51200-1399 16:41400-1599 17:31600-1799 18:21800-1999 19:12000+ 20:0\nDopuszczamy:* Special Characters* wszystkie armie wydane w VI edycji WFB przez GW.*Dotyczy to wszystkich armii z Armybook \, uwzględniając opcjonalne\, armie z -Storm of Chaos\, Revening Hordes\, Vampire Coast. Jeżeli chcesz przyjechac z jakąś oryginalna armia z White Dwarfs \, nie wymienionych dodatkow – napisz do nas nie będzie z tym problemu MUST HAVE :* Uczestnik turnieju musi przynieść ze sobą figurki i modele\, które będą reprezentować dowodzoną przez gracza armię. Niedopuszczalne są PROXY nie reprezentujące bezpośrednio modeli w armii gracza ( jesteśmy ok z drukiem 3d\, zamiennikami\, ale modele muszą być w odpowiedniej skali i reprezentujące poszczególne jednostki z frakcji)* Uczestnik turnieju musi posiadać ze sobą wydrukowana czytelna rozpiskę zawierająca ekwipunek jednostek statystyki koszt i umiejętności* Uczestnik turnieju musi posiadać swoja miarkę calowa oraz zestaw niezbędnych kości i wzorników* uczestnik turnieju w trakcie trwania turnieju musi posiadac przy sobie ksiege armii / zasady swojej armii ktore w dowolnej chwili moze udostepnic przeciwnikowi.*WORST PLAY : w przypadku zachowania naruszającego szacunek względem graczy\, rażąco negatywnego wpływu na pogorszenie atmosfery wydarzenia organizator zastrzega sobie prawo do wykluczenia gracza z dalszej rozgrywki\, bez prawa do zwrotu wpisowego.Jesteśmy tutaj aby świetnie spędzić czas\, nie denerwować się Na turnieju wyznaczeni będą dwaj sędziowie\, w przypadku sporów rozstrzygać będą interpretacje zasad\, ich ocena jest ostateczna i nie podlega negocjacjom.
URL:https://myhammer.blog/event/turniej-wfb-rzeszowski-mlotek-xii-nowy-bastion/
LOCATION:Rzeszowski Młotek X „Krwawe Kroniki”\, Hoffmanowej 19\, Rzeszów\, Podkarpackie\, 35-016\, Poland
CATEGORIES:Turniej WFB
ATTACH;FMTTYPE=image/png:https://myhammer.blog/wp-content/uploads/2025/05/nowy_bastion_banner-1.png
END:VEVENT
BEGIN:VEVENT
DTSTART;TZID=Europe/Warsaw:20250629T090000
DTEND;TZID=Europe/Warsaw:20250629T180000
DTSTAMP:20260420T213114
CREATED:20250617T205813Z
LAST-MODIFIED:20250617T205813Z
UID:1147-1751187600-1751220000@myhammer.blog
SUMMARY:Turniej WFB: Rzeszowski Młotek XII „Heroes of Warhammer”
DESCRIPTION:Rzeszowski Młotek XIII! Data: 18.05.2025 9:00 Miejsce: Raglot Rzeszów\, ul. Hoffmanowej 19 Wpisowe: 40 PLN – całość na lokal i nagrody Limit: tylko 12 graczy – decyduje kolejność zgłoszeń! Gramy na armybookach z 6. edycji\, rulebook z 7. edycji Dozwolone armie z Revening Hordes\, Storm of Chaos i więcej Trzy Epickie bitwy Pitched Battle.Niech wygra najlepszy generał – ale pamiętajmy\, że najważniejsza jest dobra zabawa i szacunek przy stole. Do zobaczenia w Raglocie! Zgłoszenia i pytania – piszcie do organizatorów: Wojciech Wiącek i Maksymilian Czachur.\n Motyw przewodni: Heroes of Might and MagicWkrocz na pole bitwy jak prawdziwy Starego Świata! Twój generał nie tylko prowadzi armię – on ją rozwija\, kształtuje i prowadzi ku chwale… albo zgubie.\n Zasady specjalne turnieju – Rozwijamy Armię!Ten turniej to nie tylko zestaw 3 bitew – to kampania\, w której Twoja armia rośnie w siłę\, zdobywa doświadczenie i nowe możliwości\, niczym w klasycznych strategiach turowych!\n Jak to działa?Start: Zaczynasz z rozpiską na 1250 punktów.Postęp: Z każdą kolejną bitwą zwiększasz rozpiskę o +250 punktów.\nBitwa 1 = 1250\nBitwa 2 = 1500 pkt\nBitwa 3 = 1750 pkt\n Ograniczenia rozwojowe:Armia ewoluuje\, nie zmienia się! Jednostki i bohaterowie z pierwszej rozpiski muszą pojawić się w każdej kolejnej.\nMożesz zwiększać ich liczebność\, dodawać sztandary\, muzyków\, ulepszenia – ale nie możesz ich usunąć.\nBohaterowie zachowują limit 50 pkt na magiczne przedmioty\, ale mogą być rozwijani\, dokupuj pancerze\, mounty\, lvl magom – zwiększaj ich potencjał bojowy!\nRaz zakupione przedmioty magiczne są z nimi związane – nie można ich usunąć ani zamienić.\nRozpiskę możesz modyfikować po wylosowaniu przeciwnika już od drugiej bitwy! Dobieraj jednostki w doskonałej kontrze do wojsk przeciwnika!\n To prawdziwa kampania!Każda decyzja z pierwszej bitwy ma wpływ na kolejne – planuj strategicznie\, rozwijaj rozsądnie i walcz do końca!\n\nPunktacjaBitwa 1 :0-124 10:10125-249 11:9250-374 12:8375-499 13:7500-624 14:6625-749 15:5750-874 16:4875-999 17:31000-1124 18:21125-1249 19:11250+ 20:0\nBitwa 20-149 10:10150-299 11:9300-449 12:8450-599 13:7600-749 14:6750-899 15:5900-1049 16:41050-1199 17:31200-1349 18:21350-1499 19:11500+ 20:0\nBitwa 30-174 10:10175-349 11:9350-524 12:8525-699 13:7700-874 14:6875-1049 15:51050-1224 16:41225-1399 17:31400-1574 18:21575-1749 19:11750+ 20:0\nDopuszczamy: Special Characters wszystkie armie wydane w VI edycji WFB przez GW.Dotyczy to wszystkich armii z Armybook \, uwzględniając opcjonalne\, armie z -Storm of Chaos\, Revening Hordes\, Vampire Coast. Jeżeli chcesz przyjechac z jakąś oryginalna armia z White Dwarfs \, nie wymienionych dodatkow – napisz do nas nie będzie z tym problemu  nie dopuszczamy armii z Bitwy o BrodęMUST HAVE :Uczestnik turnieju musi przynieść ze sobą figurki i modele\, które będą reprezentować dowodzoną przez gracza armię. Niedopuszczalne są PROXY nie reprezentujące bezpośrednio modeli w armii gracza ( jesteśmy ok z drukiem 3d\, zamiennikami\, ale modele muszą być w odpowiedniej skali i reprezentujące poszczególne jednostki z frakcji)Uczestnik turnieju musi posiadać ze sobą wydrukowana czytelna rozpiskę zawierająca ekwipunek jednostek statystyki koszt i umiejętnościUczestnik turnieju musi posiadać swoja miarkę calowa oraz zestaw niezbędnych kości i wzorników uczestnik turnieju w trakcie trwania turnieju musi posiadac przy sobie ksiege armii / zasady swojej armii ktore w dowolnej chwili moze udostepnic przeciwnikowi.WORST PLAY : w przypadku zachowania naruszającego szacunek względem graczy\, rażąco negatywnego wpływu na pogorszenie atmosfery wydarzenia organizator zastrzega sobie prawo do wykluczenia gracza z dalszej rozgrywki\, bez prawa do zwrotu wpisowego.Jesteśmy tutaj aby świetnie spędzić czas\, nie denerwować się Na turnieju wyznaczeni będą dwaj sędziowie\, w przypadku sporów rozstrzygać będą interpretacje zasad\, ich ocena jest ostateczna i nie podlega negocjacjom.W przypadku niekorzystnej liczby uczestników losowo wyznaczamy osobę która pauzuje \, ma baye. Gracz za tą rozgrywkę otrzymuje 12 dużych punktów. Baey można otrzymać raz na cały turnie
URL:https://myhammer.blog/event/turniej-wfb-rzeszowski-mlotek-xii-heroes-of-warhammer/
LOCATION:Rzeszowski Młotek X „Krwawe Kroniki”\, Hoffmanowej 19\, Rzeszów\, Podkarpackie\, 35-016\, Poland
CATEGORIES:Turniej WFB
ATTACH;FMTTYPE=image/jpeg:https://myhammer.blog/wp-content/uploads/2025/06/502526177_9889897707759962_5970962059048172531_n.jpg
END:VEVENT
BEGIN:VEVENT
DTSTART;TZID=Europe/Warsaw:20251003T140000
DTEND;TZID=Europe/Warsaw:20251005T160000
DTSTAMP:20260420T213114
CREATED:20250220T162647Z
LAST-MODIFIED:20250220T162901Z
UID:908-1759500000-1759680000@myhammer.blog
SUMMARY:Oldhammer Weekend Poland 2025
DESCRIPTION:  \nOldhammer Weekend Poland. Co to jest?\nJest to impreza o tak naprawdę bardzo luźnej strukturze. W czasie trzech dni będzie szansa zobaczyć i zagrać w gry\, które już dawno zniknęły z powierzchni ziemi. Będzie Warhammer Fantasy Battle (edycje minione;). Będzie Rogue Trader (1. edycja Warhammer 40k) oraz 2 ed WH40k\, Warmaster\, Man-o-War\, Gorkamorka\, Hero Quest i Sigmar raczy wiedzieć co jeszcze…\nW ten weekend odbędą jedno- i dwudniowe kampanie\, jak i również krótkie gry dla ludzi z ograniczoną ilością czasu. Dla każdego coś miłego.\nImpreza jest nastawiona na zabawę i wspominki. Nie koncentrujemy się za bardzo na rywalizacji oraz ścisłym przestrzeganiu podręcznikowych zasad (no cóż\, powiedzmy sobie szczerze – kiedyś zasady pozostawiały wiele do życzenia\, a mimo to się jakoś grało). Gramy bez ciśnienia i kwasów.\nPlus dodatkowo konkurs malarski:)\n\nMiejsce:Klub Adeptus MechanicusAl.Krakowska 110/114teren Airbus Military EADS PZLWejściówka: TBA
URL:https://myhammer.blog/event/908/
LOCATION:Klub Adeptus Mechanicus\, Al.Krakowska 110/114\, Warszawa\, Mazowieckie\, 02-256\, Poland
ATTACH;FMTTYPE=image/jpeg:https://myhammer.blog/wp-content/uploads/2025/02/480433194_9251679961546260_8218277310208803105_n.jpg
END:VEVENT
END:VCALENDAR